BEGIN:VCALENDAR
VERSION:2.0
PRODID:-//ChamberMaster//Event Calendar 2.0//EN
METHOD:PUBLISH
X-PUBLISHED-TTL:P3D
REFRESH-INTERVAL:P3D
CALSCALE:GREGORIAN
BEGIN:VEVENT
DTSTART;VALUE=DATE:20150704
DTEND;VALUE=DATE:20150705
TRANSP:TRANSPARENT
X-MICROSOFT-CDO-ALLDAYEVENT:TRUE
SUMMARY:2015 4th of July Celebration
DESCRIPTION:Creswell's 4th of July Celebration truly brings out the best in our community. It is a wonderful celebration of our independence that brings home big slices of red\, white\, and blue\; a celebration that unfolds in all its splendor right here in our community. "It's a day that ends with a bang!"\n\n\n\nMap - Barricade & Parking Restrictions & Parade Route (PDF)\n\nMap - Celebration Activities & Parade Route (PDF)\n\nEntertainment Schedule (PDF)\n\nParade Registration  (PDF)
X-ALT-DESC;FMTTYPE=text/html:<span style="font-size: 14px\;"><span style="font-family: arial\;"><span new="" times=""><font color="#000000">Creswell&#39\;s 4th of July Celebration truly brings out the best in our community. It is a wonderful celebration of our independence that brings home big slices of red\, white\, and blue\;&nbsp\;a celebration that unfolds in all its splendor right here in our community. &ldquo\;It&#39\;s a day that ends with a bang!&rdquo\;</font></span></span></span><br />\n<br />\n<span style="font-size: 18px\;"><a href="http://cloud.chambermaster.com/userfiles/UserFiles/chambers/740/File/2015_4th_of_July/2015_4thofJulyMapInsertnoparking.pdf">Map -&nbsp\;Barricade &amp\; Parking Restrictions &amp\; Parade Route</a>&nbsp\;<span style="font-size: 14px\;">(PDF)</span><br />\n<a href="http://cloud.chambermaster.com/userfiles/UserFiles/chambers/740/File/2015_4th_of_July/2015_4thofJulyMapinsert.pdf">Map - Celebration Activities &amp\; Parade Route</a> <span style="font-size: 14px\;">(PDF)</span><br />\n<a href="http://cloud.chambermaster.com/userfiles/UserFiles/chambers/740/File/2015_4th_of_July/2015_Entertainment.pdf">Entertainment Schedule</a> <span style="font-size: 14px\;">(PDF)</span><br />\n<a href="http://cloud.chambermaster.com/userfiles/UserFiles/chambers/740/File/2015_4th_of_July/ParadeEntry2015.pdf">Parade Registration </a></span> (PDF)
LOCATION:Creswell\, OR 97426
UID:e.740.300
SEQUENCE:3
DTSTAMP:20260422T093408Z
URL:https://business.creswellchamber.com/events/details/2015-4th-of-july-celebration-300
END:VEVENT

END:VCALENDAR
